Workbook
Name WErtg: #REF!
Name Wertung: #REF!
Name Wertung: '[1]Bieter 6-10'!$F$114:$N$114

Sheet Tenderers 1-5
A1: Grid for the assessment of technical bids for contracts above the EU threshold | O1: Tenderers 1 to 5
A2: Officer responsible for the commission: | D2: Project: | F2: Nile Delta Water Management programme | K2: Processing number: | M2: 2019.2006.5-001.00
D3: Services put out to tender: | F3: Consultancy services in Leadership Development Programme for Water Wastewater | K3: Transaction number:
A4: Assessor:
A5: Version (Delete as appropriate): | C5: Individual assessment/overall assessment | M5: ="Tenderers 1 to 5 of "&TEXT(IF(COUNTA('Tenderers 6-10'!E11:E39,'[1]Bieter 6-10'!G11:G39,'[1]Bieter 6-10'!I11:I39,'[1]Bieter 6-10'!K11:K39,'[1]Bieter 6-10'!M11:M39)+COUNTA('Tenderers 6-10'!E41:E144,'[1]Bieter 6-10'!G41:G144,'[1]Bieter 6-10'!I41:I144,'[1]Bieter 6-10'!K41:K144,'[1]Bieter 6-10'!M41:M144)>0,"10","5"),"0") -> Tenderers 1 to 5 of 10 | O5: (Automatically increases to 10 if entries were made on sheet "Tenderers 6-10".)
E6: Enter tenderer 1 | G6: Enter tenderer 2 | I6: Enter tenderer 3 | K6: Enter tenderer 4 | M6: Enter tenderer 5
B7: (1) | D7: (2) | E7: (3) | F7: (4) | G7: (3) | H7: (4) | I7: (3) | J7: (4) | K7: (3) | L7: (4) | M7: (3) | N7: (4)
B8: Criterion | D8: Weighting | E8: Points | F8: Assessment | G8: Points | H8: Assessment | I8: Points | J8: Assessment | K8: Points | L8: Assessment | M8: Points | N8: Assessment
D9: in % | E9: (max.10) | F9: (2)x(3) | G9: (max.10) | H9: (2)x(3) | I9: (max.10) | J9: (2)x(3) | K9: (max.10) | L9: (2)x(3) | M9: (max.10) | N9: (2)x(3)
A10: 1 | B10: Assessment of technical-methodological design | P10: =IF(ISBLANK(B10),A10,B10) -> Assessment of technical-methodological design
A11: 1.1 | B11: Strategy | P11: =IF(ISBLANK(B11),A11,B11) -> Strategy
A12: 1.1.1 | B12: Interpretation of the objectives in the ToRs, critical examination of tasks | D12: 0.07 | F12: =$D12*E12*100 -> 0 | H12: =$D12*G12*100 -> 0 | J12: =$D12*I12*100 -> 0 | L12: =$D12*K12*100 -> 0 | N12: =$D12*M12*100 -> 0 | P12: =IF(ISBLANK(B12),A12,B12) -> Interpretation of the objectives in the ToRs, critical examination of tasks
A13: 1.1.2 | B13: Description and justification of the contractor's strategy for delivering the services put out to tender | D13: 0.05 | F13: =$D13*E13*100 -> 0 | H13: =$D13*G13*100 -> 0 | J13: =$D13*I13*100 -> 0 | L13: =$D13*K13*100 -> 0 | N13: =$D13*M13*100 -> 0 | P13: =IF(ISBLANK(B13),A13,B13) -> Description and justification of the contractor's strategy for delivering the services put out to tender
A14: Interim total 1.1 | D14: =SUM(D12:D13) -> 0.12 | F14: =SUM(F12:F13) -> 0 | H14: =SUM(H12:H13) -> 0 | J14: =SUM(J12:J13) -> 0 | L14: =SUM(L12:L13) -> 0 | N14: =SUM(N12:N13) -> 0 | P14: =IF(ISBLANK(B14),A14,B14) -> Interim total 1.1
A15: 1.2 | B15: Cooperation | P15: =IF(ISBLANK(B15),A15,B15) -> Cooperation
A16: 1.2.1 | B16: Presentation and interaction between the relevant actors in the contractor's area of responsibility | D16: 0.02 | F16: =$D16*E16*100 -> 0 | H16: =$D16*G16*100 -> 0 | J16: =$D16*I16*100 -> 0 | L16: =$D16*K16*100 -> 0 | N16: =$D16*M16*100 -> 0 | P16: =IF(ISBLANK(B16),A16,B16) -> Presentation and interaction between the relevant actors in the contractor's area of responsibility
A17: 1.2.2 | B17: Strategy for establishing cooperation and then cooperating with the relevant actors | D17: 0.02 | F17: =$D17*E17*100 -> 0 | H17: =$D17*G17*100 -> 0 | J17: =$D17*I17*100 -> 0 | L17: =$D17*K17*100 -> 0 | N17: =$D17*M17*100 -> 0 | P17: =IF(ISBLANK(B17),A17,B17) -> Strategy for establishing cooperation and then cooperating with the relevant actors
A18: Interim total 1.2 | D18: =SUM(D16:D17) -> 0.04 | F18: =SUM(F16:F17) -> 0 | H18: =SUM(H16:H17) -> 0 | J18: =SUM(J16:J17) -> 0 | L18: =SUM(L16:L17) -> 0 | N18: =SUM(N16:N17) -> 0 | P18: =IF(ISBLANK(B18),A18,B18) -> Interim total 1.2
A19: 1.3 | B19: Steering structure | P19: =IF(ISBLANK(B19),A19,B19) -> Steering structure
A20: 1.3.1 | B20: Approach and procedure for steering the measures with the project partners | D20: 0.02 | F20: =$D20*E20*100 -> 0 | H20: =$D20*G20*100 -> 0 | J20: =$D20*I20*100 -> 0 | L20: =$D20*K20*100 -> 0 | N20: =$D20*M20*100 -> 0 | P20: =IF(ISBLANK(B20),A20,B20) -> Approach and procedure for steering the measures with the project partners
A21: 1.3.2 | B21: Description of contractor's contribution to results monitoring and the associated challenges | D21: 0.02 | F21: =$D21*E21*100 -> 0 | H21: =$D21*G21*100 -> 0 | J21: =$D21*I21*100 -> 0 | L21: =$D21*K21*100 -> 0 | N21: =$D21*M21*100 -> 0 | P21: =IF(ISBLANK(B21),A21,B21) -> Description of contractor's contribution to results monitoring and the associated challenges
A22: Interim total 1.3 | D22: =SUM(D20:D21) -> 0.04 | F22: =SUM(F20:F21) -> 0 | H22: =SUM(H20:H21) -> 0 | J22: =SUM(J20:J21) -> 0 | L22: =SUM(L20:L21) -> 0 | N22: =SUM(N20:N21) -> 0 | P22: =IF(ISBLANK(B22),A22,B22) -> Interim total 1.3
A23: 1.4 | B23: Processes | P23: =IF(ISBLANK(B23),A23,B23) -> Processes
A24: 1.4.1 | B24: Presentation and explanation of the implementation plan: work steps, milestones, schedule | D24: 0.04 | F24: =$D24*E24*100 -> 0 | H24: =$D24*G24*100 -> 0 | J24: =$D24*I24*100 -> 0 | L24: =$D24*K24*100 -> 0 | N24: =$D24*M24*100 -> 0 | P24: =IF(ISBLANK(B24),A24,B24) -> Presentation and explanation of the implementation plan: work steps, milestones, schedule
A25: 1.4.2 | B25: Presentation and explanation of the integration of the partner contributions | D25: 0.02 | F25: =$D25*E25*100 -> 0 | H25: =$D25*G25*100 -> 0 | J25: =$D25*I25*100 -> 0 | L25: =$D25*K25*100 -> 0 | N25: =$D25*M25*100 -> 0 | P25: =IF(ISBLANK(B25),A25,B25) -> Presentation and explanation of the integration of the partner contributions
A26: Interim total 1.4 | D26: =SUM(D24:D25) -> 0.06 | F26: =SUM(F24:F25) -> 0 | H26: =SUM(H24:H25) -> 0 | J26: =SUM(J24:J25) -> 0 | L26: =SUM(L24:L25) -> 0 | N26: =SUM(N24:N25) -> 0 | P26: =IF(ISBLANK(B26),A26,B26) -> Interim total 1.4
A27: 1.5 | B27: Learning and innovation | P27: =IF(ISBLANK(B27),A27,B27) -> Learning and innovation
A28: 1.5.1 | B28: Contractor's contribution to knowledge management at the partner and at GIZ | D28: 0.01 | F28: =$D28*E28*100 -> 0 | H28: =$D28*G28*100 -> 0 | J28: =$D28*I28*100 -> 0 | L28: =$D28*K28*100 -> 0 | N28: =$D28*M28*100 -> 0 | P28: =IF(ISBLANK(B28),A28,B28) -> Contractor's contribution to knowledge management at the partner and at GIZ
A29: 1.5.2 | B29: Presentation and explanation of the measures undertaken by the contractor to promote scaling-up effects | D29: 0.02 | F29: =$D29*E29*100 -> 0 | H29: =$D29*G29*100 -> 0 | J29: =$D29*I29*100 -> 0 | L29: =$D29*K29*100 -> 0 | N29: =$D29*M29*100 -> 0 | P29: =IF(ISBLANK(B29),A29,B29) -> Presentation and explanation of the measures undertaken by the contractor to promote scaling-up effects
A30: Interim total 1.5 | D30: =SUM(D28:D29) -> 0.03 | F30: =SUM(F28:F29) -> 0 | H30: =SUM(H28:H29) -> 0 | J30: =SUM(J28:J29) -> 0 | L30: =SUM(L28:L29) -> 0 | N30: =SUM(N28:N29) -> 0 | P30: =IF(ISBLANK(B30),A30,B30) -> Interim total 1.5
A31: 1.6 | B31: Project management of the contractor | P31: =IF(ISBLANK(B31),A31,B31) -> Project management of the contractor
A32: 1.6.1 | B32: Approach and procedure for coordination with/in GIZ project | D32: 0.03 | F32: =$D32*E32*100 -> 0 | H32: =$D32*G32*100 -> 0 | J32: =$D32*I32*100 -> 0 | L32: =$D32*K32*100 -> 0 | N32: =$D32*M32*100 -> 0 | P32: =IF(ISBLANK(B32),A32,B32) -> Approach and procedure for coordination with/in GIZ project
A33: 1.6.2 | B33: Personnel assignment plan (who, when, what work steps) incl. explanation and specification of expert months | D33: 0.03 | F33: =$D33*E33*100 -> 0 | H33: =$D33*G33*100 -> 0 | J33: =$D33*I33*100 -> 0 | L33: =$D33*K33*100 -> 0 | N33: =$D33*M33*100 -> 0 | P33: =IF(ISBLANK(B33),A33,B33) -> Personnel assignment plan (who, when, what work steps) incl. explanation and specification of expert months
A34: 1.6.3 | B34: Contractor's backstopping strategy (incl. CVs of the technical and administrative backstopper) | D34: 0.01 | F34: =$D34*E34*100 -> 0 | H34: =$D34*G34*100 -> 0 | J34: =$D34*I34*100 -> 0 | L34: =$D34*K34*100 -> 0 | N34: =$D34*M34*100 -> 0 | P34: =IF(ISBLANK(B34),A34,B34) -> Contractor's backstopping strategy (incl. CVs of the technical and administrative backstopper)
A35: Interim total 1.6 | D35: =SUM(D32:D34) -> 0.07 | F35: =SUM(F32:F34) -> 0 | H35: =SUM(H32:H34) -> 0 | J35: =SUM(J32:J34) -> 0 | L35: =SUM(L32:L34) -> 0 | N35: =SUM(N32:N34) -> 0 | P35: =IF(ISBLANK(B35),A35,B35) -> Interim total 1.6
A36: 1.7 | B36: Sustainability requirements | D36: 0.04 | F36: =$D36*E36*100 -> 0 | H36: =$D36*G36*100 -> 0 | J36: =$D36*I36*100 -> 0 | L36: =$D36*K36*100 -> 0 | N36: =$D36*M36*100 -> 0
A37: 1.8 | B37: Further requirements | D37: 0 | F37: =$D37*E37*100 -> 0 | H37: =$D37*G37*100 -> 0 | J37: =$D37*I37*100 -> 0 | L37: =$D37*K37*100 -> 0 | N37: =$D37*M37*100 -> 0 | P37: =IF(ISBLANK(B37),A37,B37) -> Further requirements
A38: Total 1 | D38: =D14+D18+D22+D26+D30+D35+D36+D37 -> 0.4 | F38: =SUM(F14,F18,F22,F26,F30,F35,F36,F37) -> 0 | H38: =SUM(H14,H18,H22,H26,H30,H35,H36,H37) -> 0 | J38: =SUM(J14,J18,J22,J26,J30,J35,J36,J37) -> 0 | L38: =SUM(L14,L18,L22,L26,L30,L35,L36,L37) -> 0 | N38: =SUM(N14,N18,N22,N26,N30,N35,N36,N37) -> 0 | P38: =IF(ISBLANK(B38),A38,B38) -> Total 1
A39: 2 | B39: Assessment of proposed staff | P39: =IF(ISBLANK(B39),A39,B39) -> Assessment of proposed staff
A40: 2.1 | B40: Expert 1 (in accordance with ToR provisions/criteria) | P40: =IF(ISBLANK(B40),A40,B40) -> Expert 1 (in accordance with ToR provisions/criteria)
A41: 2.1.1 | B41: - Qualifications | D41: 0.04 | F41: =$D41*E41*100 -> 0 | H41: =$D41*G41*100 -> 0 | J41: =$D41*I41*100 -> 0 | L41: =$D41*K41*100 -> 0 | N41: =$D41*M41*100 -> 0 | P41: =IF(ISBLANK(B41),A41,B41) -> - Qualifications
A42: 2.1.2 | B42: - Language | D42: 0.02 | F42: =$D42*E42*100 -> 0 | H42: =$D42*G42*100 -> 0 | J42: =$D42*I42*100 -> 0 | L42: =$D42*K42*100 -> 0 | N42: =$D42*M42*100 -> 0 | P42: =IF(ISBLANK(B42),A42,B42) -> - Language
A43: 2.1.3 | B43: - General professional experience | D43: 0.04 | F43: =$D43*E43*100 -> 0 | H43: =$D43*G43*100 -> 0 | J43: =$D43*I43*100 -> 0 | L43: =$D43*K43*100 -> 0 | N43: =$D43*M43*100 -> 0 | P43: =IF(ISBLANK(B43),A43,B43) -> - General professional experience
A44: 2.1.4 | B44: - Specific professional experience | D44: 0.07 | F44: =$D44*E44*100 -> 0 | H44: =$D44*G44*100 -> 0 | J44: =$D44*I44*100 -> 0 | L44: =$D44*K44*100 -> 0 | N44: =$D44*M44*100 -> 0 | P44: =IF(ISBLANK(B44),A44,B44) -> - Specific professional experience
A45: 2.1.5 | B45: - Leadership/management experience | D45: 0.05 | F45: =$D45*E45*100 -> 0 | H45: =$D45*G45*100 -> 0 | J45: =$D45*I45*100 -> 0 | L45: =$D45*K45*100 -> 0 | N45: =$D45*M45*100 -> 0 | P45: =IF(ISBLANK(B45),A45,B45) -> - Leadership/management experience
A46: 2.1.6 | B46: - Regional experience | D46: 0.02 | F46: =$D46*E46*100 -> 0 | H46: =$D46*G46*100 -> 0 | J46: =$D46*I46*100 -> 0 | L46: =$D46*K46*100 -> 0 | N46: =$D46*M46*100 -> 0 | P46: =IF(ISBLANK(B46),A46,B46) -> - Regional experience
A47: 2.1.7 | B47: - Development cooperation experience | D47: 0.01 | F47: =$D47*E47*100 -> 0 | H47: =$D47*G47*100 -> 0 | J47: =$D47*I47*100 -> 0 | L47: =$D47*K47*100 -> 0 | N47: =$D47*M47*100 -> 0 | P47: =IF(ISBLANK(B47),A47,B47) -> - Development cooperation experience
A48: 2.1.8 | B48: - Other | D48: 0 | F48: =$D48*E48*100 -> 0 | H48: =$D48*G48*100 -> 0 | J48: =$D48*I48*100 -> 0 | L48: =$D48*K48*100 -> 0 | N48: =$D48*M48*100 -> 0 | P48: =IF(ISBLANK(B48),A48,B48) -> - Other
A49: Interim total 2.1 | D49: =SUM(D41:D48) -> 0.25 | F49: =SUM(F41:F48) -> 0 | H49: =SUM(H41:H48) -> 0 | J49: =SUM(J41:J48) -> 0 | L49: =SUM(L41:L48) -> 0 | N49: =SUM(N41:N48) -> 0 | P49: =IF(ISBLANK(B49),A49,B49) -> Interim total 2.1
A50: 2.2 | B50: Expert 2 (in accordance with ToR provisions/criteria) | P50: =IF(ISBLANK(B50),A50,B50) -> Expert 2 (in accordance with ToR provisions/criteria)
A51: 2.2.1 | B51: - Qualifications | D51: 0.04 | F51: =$D51*E51*100 -> 0 | H51: =$D51*G51*100 -> 0 | J51: =$D51*I51*100 -> 0 | L51: =$D51*K51*100 -> 0 | N51: =$D51*M51*100 -> 0 | P51: =IF(ISBLANK(B51),A51,B51) -> - Qualifications
A52: 2.2.2 | B52: - Language | D52: 0.02 | F52: =$D52*E52*100 -> 0 | H52: =$D52*G52*100 -> 0 | J52: =$D52*I52*100 -> 0 | L52: =$D52*K52*100 -> 0 | N52: =$D52*M52*100 -> 0 | P52: =IF(ISBLANK(B52),A52,B52) -> - Language
A53: 2.2.3 | B53: - General professional experience | D53: 0.04 | F53: =$D53*E53*100 -> 0 | H53: =$D53*G53*100 -> 0 | J53: =$D53*I53*100 -> 0 | L53: =$D53*K53*100 -> 0 | N53: =$D53*M53*100 -> 0 | P53: =IF(ISBLANK(B53),A53,B53) -> - General professional experience
A54: 2.2.4 | B54: - Specific professional experience | D54: 0.07 | F54: =$D54*E54*100 -> 0 | H54: =$D54*G54*100 -> 0 | J54: =$D54*I54*100 -> 0 | L54: =$D54*K54*100 -> 0 | N54: =$D54*M54*100 -> 0 | P54: =IF(ISBLANK(B54),A54,B54) -> - Specific professional experience
A55: 2.2.5 | B55: - Leadership/management experience | D55: 0.01 | F55: =$D55*E55*100 -> 0 | H55: =$D55*G55*100 -> 0 | J55: =$D55*I55*100 -> 0 | L55: =$D55*K55*100 -> 0 | N55: =$D55*M55*100 -> 0 | P55: =IF(ISBLANK(B55),A55,B55) -> - Leadership/management experience
A56: 2.2.6 | B56: - Regional experience | D56: 0.02 | F56: =$D56*E56*100 -> 0 | H56: =$D56*G56*100 -> 0 | J56: =$D56*I56*100 -> 0 | L56: =$D56*K56*100 -> 0 | N56: =$D56*M56*100 -> 0 | P56: =IF(ISBLANK(B56),A56,B56) -> - Regional experience
A57: 2.2.7 | B57: - Development cooperation experience | D57: 0 | F57: =$D57*E57*100 -> 0 | H57: =$D57*G57*100 -> 0 | J57: =$D57*I57*100 -> 0 | L57: =$D57*K57*100 -> 0 | N57: =$D57*M57*100 -> 0 | P57: =IF(ISBLANK(B57),A57,B57) -> - Development cooperation experience
A58: 2.2.8 | B58: - Other | D58: 0 | F58: =$D58*E58*100 -> 0 | H58: =$D58*G58*100 -> 0 | J58: =$D58*I58*100 -> 0 | L58: =$D58*K58*100 -> 0 | N58: =$D58*M58*100 -> 0 | P58: =IF(ISBLANK(B58),A58,B58) -> - Other
A59: Interim total 2.2 | D59: =SUM(D51:D58) -> 0.2 | F59: =SUM(F51:F58) -> 0 | H59: =SUM(H51:H58) -> 0 | J59: =SUM(J51:J58) -> 0 | L59: =SUM(L51:L58) -> 0 | N59: =SUM(N51:N58) -> 0 | P59: =IF(ISBLANK(B59),A59,B59) -> Interim total 2.2
A60: 2.3 | B60: Expert 3 (in accordance with ToR provisions/criteria) | P60: =IF(ISBLANK(B60),A60,B60) -> Expert 3 (in accordance with ToR provisions/criteria)
A61: 2.3.1 | B61: - Qualifications | D61: 0.04 | F61: =$D61*E61*100 -> 0 | H61: =$D61*G61*100 -> 0 | J61: =$D61*I61*100 -> 0 | L61: =$D61*K61*100 -> 0 | N61: =$D61*M61*100 -> 0 | P61: =IF(ISBLANK(B61),A61,B61) -> - Qualifications
A62: 2.3.2 | B62: - Language | D62: 0.02 | F62: =$D62*E62*100 -> 0 | H62: =$D62*G62*100 -> 0 | J62: =$D62*I62*100 -> 0 | L62: =$D62*K62*100 -> 0 | N62: =$D62*M62*100 -> 0 | P62: =IF(ISBLANK(B62),A62,B62) -> - Language
A63: 2.3.3 | B63: - General professional experience | D63: 0.04 | F63: =$D63*E63*100 -> 0 | H63: =$D63*G63*100 -> 0 | J63: =$D63*I63*100 -> 0 | L63: =$D63*K63*100 -> 0 | N63: =$D63*M63*100 -> 0 | P63: =IF(ISBLANK(B63),A63,B63) -> - General professional experience
A64: 2.3.4 | B64: - Specific professional experience | D64: 0.05 | F64: =$D64*E64*100 -> 0 | H64: =$D64*G64*100 -> 0 | J64: =$D64*I64*100 -> 0 | L64: =$D64*K64*100 -> 0 | N64: =$D64*M64*100 -> 0 | P64: =IF(ISBLANK(B64),A64,B64) -> - Specific professional experience
A65: 2.3.5 | B65: - Leadership/management experience | D65: 0 | F65: =$D65*E65*100 -> 0 | H65: =$D65*G65*100 -> 0 | J65: =$D65*I65*100 -> 0 | L65: =$D65*K65*100 -> 0 | N65: =$D65*M65*100 -> 0 | P65: =IF(ISBLANK(B65),A65,B65) -> - Leadership/management experience
A66: 2.3.6 | B66: - Regional experience | D66: 0 | F66: =$D66*E66*100 -> 0 | H66: =$D66*G66*100 -> 0 | J66: =$D66*I66*100 -> 0 | L66: =$D66*K66*100 -> 0 | N66: =$D66*M66*100 -> 0 | P66: =IF(ISBLANK(B66),A66,B66) -> - Regional experience
A67: 2.3.7 | B67: - Development cooperation experience | D67: 0 | F67: =$D67*E67*100 -> 0 | H67: =$D67*G67*100 -> 0 | J67: =$D67*I67*100 -> 0 | L67: =$D67*K67*100 -> 0 | N67: =$D67*M67*100 -> 0 | P67: =IF(ISBLANK(B67),A67,B67) -> - Development cooperation experience
A68: 2.3.8 | B68: - Other | D68: 0 | F68: =$D68*E68*100 -> 0 | H68: =$D68*G68*100 -> 0 | J68: =$D68*I68*100 -> 0 | L68: =$D68*K68*100 -> 0 | N68: =$D68*M68*100 -> 0 | P68: =IF(ISBLANK(B68),A68,B68) -> - Other
A69: Interim total 2.3 | D69: =SUM(D61:D68) -> 0.15 | F69: =SUM(F61:F68) -> 0 | H69: =SUM(H61:H68) -> 0 | J69: =SUM(J61:J68) -> 0 | L69: =SUM(L61:L68) -> 0 | N69: =SUM(N61:N68) -> 0 | P69: =IF(ISBLANK(B69),A69,B69) -> Interim total 2.3
A70: 2.4 | B70: Expert 4 (in accordance with ToR provisions/criteria) | P70: =IF(ISBLANK(B70),A70,B70) -> Expert 4 (in accordance with ToR provisions/criteria)
A71: 2.4.1 | B71: - Qualifications | D71: 0 | F71: =$D71*E71*100 -> 0 | H71: =$D71*G71*100 -> 0 | J71: =$D71*I71*100 -> 0 | L71: =$D71*K71*100 -> 0 | N71: =$D71*M71*100 -> 0 | P71: =IF(ISBLANK(B71),A71,B71) -> - Qualifications
A72: 2.4.2 | B72: - Language | D72: 0 | F72: =$D72*E72*100 -> 0 | H72: =$D72*G72*100 -> 0 | J72: =$D72*I72*100 -> 0 | L72: =$D72*K72*100 -> 0 | N72: =$D72*M72*100 -> 0 | P72: =IF(ISBLANK(B72),A72,B72) -> - Language
A73: 2.4.3 | B73: - General professional experience | D73: 0 | F73: =$D73*E73*100 -> 0 | H73: =$D73*G73*100 -> 0 | J73: =$D73*I73*100 -> 0 | L73: =$D73*K73*100 -> 0 | N73: =$D73*M73*100 -> 0 | P73: =IF(ISBLANK(B73),A73,B73) -> - General professional experience
A74: 2.4.4 | B74: - Specific professional experience | D74: 0 | F74: =$D74*E74*100 -> 0 | H74: =$D74*G74*100 -> 0 | J74: =$D74*I74*100 -> 0 | L74: =$D74*K74*100 -> 0 | N74: =$D74*M74*100 -> 0 | P74: =IF(ISBLANK(B74),A74,B74) -> - Specific professional experience
A75: 2.4.5 | B75: - Leadership/management experience | D75: 0 | F75: =$D75*E75*100 -> 0 | H75: =$D75*G75*100 -> 0 | J75: =$D75*I75*100 -> 0 | L75: =$D75*K75*100 -> 0 | N75: =$D75*M75*100 -> 0 | P75: =IF(ISBLANK(B75),A75,B75) -> - Leadership/management experience
A76: 2.4.6 | B76: - Regional experience | D76: 0 | F76: =$D76*E76*100 -> 0 | H76: =$D76*G76*100 -> 0 | J76: =$D76*I76*100 -> 0 | L76: =$D76*K76*100 -> 0 | N76: =$D76*M76*100 -> 0 | P76: =IF(ISBLANK(B76),A76,B76) -> - Regional experience
A77: 2.4.7 | B77: - Development cooperation experience | D77: 0 | F77: =$D77*E77*100 -> 0 | H77: =$D77*G77*100 -> 0 | J77: =$D77*I77*100 -> 0 | L77: =$D77*K77*100 -> 0 | N77: =$D77*M77*100 -> 0 | P77: =IF(ISBLANK(B77),A77,B77) -> - Development cooperation experience
A78: 2.4.8 | B78: - Other | D78: 0 | F78: =$D78*E78*100 -> 0 | H78: =$D78*G78*100 -> 0 | J78: =$D78*I78*100 -> 0 | L78: =$D78*K78*100 -> 0 | N78: =$D78*M78*100 -> 0 | P78: =IF(ISBLANK(B78),A78,B78) -> - Other
A79: Interim total 2.4 | D79: =SUM(D71:D78) -> 0 | F79: =SUM(F71:F78) -> 0 | H79: =SUM(H71:H78) -> 0 | J79: =SUM(J71:J78) -> 0 | L79: =SUM(L71:L78) -> 0 | N79: =SUM(N71:N78) -> 0 | P79: =IF(ISBLANK(B79),A79,B79) -> Interim total 2.4
A80: 2.5 | B80: Expert 5 (in accordance with ToR provisions/criteria) | P80: =IF(ISBLANK(B80),A80,B80) -> Expert 5 (in accordance with ToR provisions/criteria)
A81: 2.5.1 | B81: - Qualifications | D81: 0 | F81: =$D81*E81*100 -> 0 | H81: =$D81*G81*100 -> 0 | J81: =$D81*I81*100 -> 0 | L81: =$D81*K81*100 -> 0 | N81: =$D81*M81*100 -> 0 | P81: =IF(ISBLANK(B81),A81,B81) -> - Qualifications
A82: 2.5.2 | B82: - Language | D82: 0 | F82: =$D82*E82*100 -> 0 | H82: =$D82*G82*100 -> 0 | J82: =$D82*I82*100 -> 0 | L82: =$D82*K82*100 -> 0 | N82: =$D82*M82*100 -> 0 | P82: =IF(ISBLANK(B82),A82,B82) -> - Language
A83: 2.5.3 | B83: - General professional experience | D83: 0 | F83: =$D83*E83*100 -> 0 | H83: =$D83*G83*100 -> 0 | J83: =$D83*I83*100 -> 0 | L83: =$D83*K83*100 -> 0 | N83: =$D83*M83*100 -> 0 | P83: =IF(ISBLANK(B83),A83,B83) -> - General professional experience
A84: 2.5.4 | B84: - Specific professional experience | D84: 0 | F84: =$D84*E84*100 -> 0 | H84: =$D84*G84*100 -> 0 | J84: =$D84*I84*100 -> 0 | L84: =$D84*K84*100 -> 0 | N84: =$D84*M84*100 -> 0 | P84: =IF(ISBLANK(B84),A84,B84) -> - Specific professional experience
A85: 2.5.5 | B85: - Leadership/management experience | D85: 0 | F85: =$D85*E85*100 -> 0 | H85: =$D85*G85*100 -> 0 | J85: =$D85*I85*100 -> 0 | L85: =$D85*K85*100 -> 0 | N85: =$D85*M85*100 -> 0 | P85: =IF(ISBLANK(B85),A85,B85) -> - Leadership/management experience
A86: 2.5.6 | B86: - Regional experience | D86: 0 | F86: =$D86*E86*100 -> 0 | H86: =$D86*G86*100 -> 0 | J86: =$D86*I86*100 -> 0 | L86: =$D86*K86*100 -> 0 | N86: =$D86*M86*100 -> 0 | P86: =IF(ISBLANK(B86),A86,B86) -> - Regional experience
A87: 2.5.7 | B87: - Development cooperation experience | D87: 0 | F87: =$D87*E87*100 -> 0 | H87: =$D87*G87*100 -> 0 | J87: =$D87*I87*100 -> 0 | L87: =$D87*K87*100 -> 0 | N87: =$D87*M87*100 -> 0 | P87: =IF(ISBLANK(B87),A87,B87) -> - Development cooperation experience
A88: 2.5.8 | B88: - Other | D88: 0 | F88: =$D88*E88*100 -> 0 | H88: =$D88*G88*100 -> 0 | J88: =$D88*I88*100 -> 0 | L88: =$D88*K88*100 -> 0 | N88: =$D88*M88*100 -> 0 | P88: =IF(ISBLANK(B88),A88,B88) -> - Other
A89: Interim total 2.5 | D89: =SUM(D81:D88) -> 0 | F89: =SUM(F81:F88) -> 0 | H89: =SUM(H81:H88) -> 0 | J89: =SUM(J81:J88) -> 0 | L89: =SUM(L81:L88) -> 0 | N89: =SUM(N81:N88) -> 0 | P89: =IF(ISBLANK(B89),A89,B89) -> Interim total 2.5
A90: 2.6 | B90: Expert 6 (in accordance with ToR provisions/criteria) | P90: =IF(ISBLANK(B90),A90,B90) -> Expert 6 (in accordance with ToR provisions/criteria)
A91: 2.6.1 | B91: - Qualifications | D91: 0 | F91: =$D91*E91*100 -> 0 | H91: =$D91*G91*100 -> 0 | J91: =$D91*I91*100 -> 0 | L91: =$D91*K91*100 -> 0 | N91: =$D91*M91*100 -> 0 | P91: =IF(ISBLANK(B91),A91,B91) -> - Qualifications
A92: 2.6.2 | B92: - Language | D92: 0 | F92: =$D92*E92*100 -> 0 | H92: =$D92*G92*100 -> 0 | J92: =$D92*I92*100 -> 0 | L92: =$D92*K92*100 -> 0 | N92: =$D92*M92*100 -> 0 | P92: =IF(ISBLANK(B92),A92,B92) -> - Language
A93: 2.6.3 | B93: - General professional experience | D93: 0 | F93: =$D93*E93*100 -> 0 | H93: =$D93*G93*100 -> 0 | J93: =$D93*I93*100 -> 0 | L93: =$D93*K93*100 -> 0 | N93: =$D93*M93*100 -> 0 | P93: =IF(ISBLANK(B93),A93,B93) -> - General professional experience
A94: 2.6.4 | B94: - Specific professional experience | D94: 0 | F94: =$D94*E94*100 -> 0 | H94: =$D94*G94*100 -> 0 | J94: =$D94*I94*100 -> 0 | L94: =$D94*K94*100 -> 0 | N94: =$D94*M94*100 -> 0 | P94: =IF(ISBLANK(B94),A94,B94) -> - Specific professional experience
A95: 2.6.5 | B95: - Leadership/management experience | D95: 0 | F95: =$D95*E95*100 -> 0 | H95: =$D95*G95*100 -> 0 | J95: =$D95*I95*100 -> 0 | L95: =$D95*K95*100 -> 0 | N95: =$D95*M95*100 -> 0 | P95: =IF(ISBLANK(B95),A95,B95) -> - Leadership/management experience
A96: 2.6.6 | B96: - Regional experience | D96: 0 | F96: =$D96*E96*100 -> 0 | H96: =$D96*G96*100 -> 0 | J96: =$D96*I96*100 -> 0 | L96: =$D96*K96*100 -> 0 | N96: =$D96*M96*100 -> 0 | P96: =IF(ISBLANK(B96),A96,B96) -> - Regional experience
A97: 2.6.7 | B97: - Development cooperation experience | D97: 0 | F97: =$D97*E97*100 -> 0 | H97: =$D97*G97*100 -> 0 | J97: =$D97*I97*100 -> 0 | L97: =$D97*K97*100 -> 0 | N97: =$D97*M97*100 -> 0 | P97: =IF(ISBLANK(B97),A97,B97) -> - Development cooperation experience
A98: 2.6.8 | B98: - Other | D98: 0 | F98: =$D98*E98*100 -> 0 | H98: =$D98*G98*100 -> 0 | J98: =$D98*I98*100 -> 0 | L98: =$D98*K98*100 -> 0 | N98: =$D98*M98*100 -> 0 | P98: =IF(ISBLANK(B98),A98,B98) -> - Other
A99: Interim total 2.6 | D99: =SUM(D91:D98) -> 0 | F99: =SUM(F91:F98) -> 0 | H99: =SUM(H91:H98) -> 0 | J99: =SUM(J91:J98) -> 0 | L99: =SUM(L91:L98) -> 0 | N99: =SUM(N91:N98) -> 0 | P99: =IF(ISBLANK(B99),A99,B99) -> Interim total 2.6
A100: 2.7 | B100: Expert 7 (in accordance with ToR provisions/criteria) | P100: =IF(ISBLANK(B100),A100,B100) -> Expert 7 (in accordance with ToR provisions/criteria)
...

Sheet Tabelle2

Sheet Tenderers 6-10
A1: Grid for the assessment of technical bids for contracts above the EU threshold | O1: Tenderers 6 to 10
A2: Officer responsible for the commission: | C2: ='Tenderers 1-5'!C2 -> 0 | D2: Project: | F2: ='Tenderers 1-5'!F2:J2 -> Nile Delta Water Management programme | K2: Processing number: | M2: ='Tenderers 1-5'!M2:N2 -> 2019.2006.5-001.00
D3: Services put out to tender: | F3: ='Tenderers 1-5'!F3:J4 -> Consultancy services in Leadership Development Programme for Water Wastewater | K3: Transaction number: | M3: ='Tenderers 1-5'!M3:N3 -> 0
A4: Assessor: | C4: ='Tenderers 1-5'!C4 -> 0
A5: Version (Delete as appropriate): | C5: ='Tenderers 1-5'!C5 -> Individual assessment/overall assessment | M5: ="Tenderers 1 to 5 of "&TEXT(IF(COUNTA('Tenderers 6-10'!E11:E39,'[1]Bieter 6-10'!G11:G39,'[1]Bieter 6-10'!I11:I39,'[1]Bieter 6-10'!K11:K39,'[1]Bieter 6-10'!M11:M39)+COUNTA('Tenderers 6-10'!E41:E144,'[1]Bieter 6-10'!G41:G144,'[1]Bieter 6-10'!I41:I144,'[1]Bieter 6-10'!K41:K144,'[1]Bieter 6-10'!M41:M144)>0,"10","5"),"0") -> Tenderers 1 to 5 of 10
E6: Enter tenderer 6 | G6: Enter tenderer 7 | I6: Enter tenderer 8 | K6: Enter tenderer 9 | M6: Enter tenderer 10
B7: (1) | D7: (2) | E7: (3) | F7: (4) | G7: (3) | H7: (4) | I7: (3) | J7: (4) | K7: (3) | L7: (4) | M7: (3) | N7: (4)
B8: Criterion | D8: Weighting | E8: Points | F8: Assessment | G8: Points | H8: Assessment | I8: Points | J8: Assessment | K8: Points | L8: Assessment | M8: Points | N8: Assessment
D9: in % | E9: (max.10) | F9: (2)x(3) | G9: (max.10) | H9: (2)x(3) | I9: (max.10) | J9: (2)x(3) | K9: (max.10) | L9: (2)x(3) | M9: (max.10) | N9: (2)x(3)
A10: 1 | B10: Assessment of technical-methodological design | P10: =IF(ISBLANK(B10),A10,B10) -> Assessment of technical-methodological design
A11: 1.1 | B11: Strategy | P11: =IF(ISBLANK(B11),A11,B11) -> Strategy
A12: 1.1.1 | B12: Interpretation of the objectives in the ToRs, critical examination of tasks | D12: 0.07 | F12: =$D12*E12*100 -> 0 | H12: =$D12*G12*100 -> 0 | J12: =$D12*I12*100 -> 0 | L12: =$D12*K12*100 -> 0 | N12: =$D12*M12*100 -> 0 | P12: =IF(ISBLANK(B12),A12,B12) -> Interpretation of the objectives in the ToRs, critical examination of tasks
A13: 1.1.2 | B13: Description and justification of the contractor's strategy for delivering the services put out to tender | D13: 0.05 | F13: =$D13*E13*100 -> 0 | H13: =$D13*G13*100 -> 0 | J13: =$D13*I13*100 -> 0 | L13: =$D13*K13*100 -> 0 | N13: =$D13*M13*100 -> 0 | P13: =IF(ISBLANK(B13),A13,B13) -> Description and justification of the contractor's strategy for delivering the services put out to tender
A14: Interim total 1.1 | D14: =SUM(D12:D13) -> 0.12 | F14: =SUM(F12:F13) -> 0 | H14: =SUM(H12:H13) -> 0 | J14: =SUM(J12:J13) -> 0 | L14: =SUM(L12:L13) -> 0 | N14: =SUM(N12:N13) -> 0 | P14: =IF(ISBLANK(B14),A14,B14) -> Interim total 1.1
A15: 1.2 | B15: Cooperation | P15: =IF(ISBLANK(B15),A15,B15) -> Cooperation
A16: 1.2.1 | B16: Presentation and interaction between the relevant actors in the contractor's area of responsibility | D16: 0.02 | F16: =$D16*E16*100 -> 0 | H16: =$D16*G16*100 -> 0 | J16: =$D16*I16*100 -> 0 | L16: =$D16*K16*100 -> 0 | N16: =$D16*M16*100 -> 0 | P16: =IF(ISBLANK(B16),A16,B16) -> Presentation and interaction between the relevant actors in the contractor's area of responsibility
A17: 1.2.2 | B17: Strategy for establishing cooperation and then cooperating with the relevant actors | D17: 0.02 | F17: =$D17*E17*100 -> 0 | H17: =$D17*G17*100 -> 0 | J17: =$D17*I17*100 -> 0 | L17: =$D17*K17*100 -> 0 | N17: =$D17*M17*100 -> 0 | P17: =IF(ISBLANK(B17),A17,B17) -> Strategy for establishing cooperation and then cooperating with the relevant actors
A18: Interim total 1.2 | D18: =SUM(D16:D17) -> 0.04 | F18: =SUM(F16:F17) -> 0 | H18: =SUM(H16:H17) -> 0 | J18: =SUM(J16:J17) -> 0 | L18: =SUM(L16:L17) -> 0 | N18: =SUM(N16:N17) -> 0 | P18: =IF(ISBLANK(B18),A18,B18) -> Interim total 1.2
A19: 1.3 | B19: Steering structure | P19: =IF(ISBLANK(B19),A19,B19) -> Steering structure
A20: 1.3.1 | B20: Approach and procedure for steering the measures with the project partners | D20: 0.02 | F20: =$D20*E20*100 -> 0 | H20: =$D20*G20*100 -> 0 | J20: =$D20*I20*100 -> 0 | L20: =$D20*K20*100 -> 0 | N20: =$D20*M20*100 -> 0 | P20: =IF(ISBLANK(B20),A20,B20) -> Approach and procedure for steering the measures with the project partners
A21: 1.3.2 | B21: Description of contractor's contribution to results monitoring and the associated challenges | D21: 0.02 | F21: =$D21*E21*100 -> 0 | H21: =$D21*G21*100 -> 0 | J21: =$D21*I21*100 -> 0 | L21: =$D21*K21*100 -> 0 | N21: =$D21*M21*100 -> 0 | P21: =IF(ISBLANK(B21),A21,B21) -> Description of contractor's contribution to results monitoring and the associated challenges
A22: Interim total 1.3 | D22: =SUM(D20:D21) -> 0.04 | F22: =SUM(F20:F21) -> 0 | H22: =SUM(H20:H21) -> 0 | J22: =SUM(J20:J21) -> 0 | L22: =SUM(L20:L21) -> 0 | N22: =SUM(N20:N21) -> 0 | P22: =IF(ISBLANK(B22),A22,B22) -> Interim total 1.3
A23: 1.4 | B23: Processes | P23: =IF(ISBLANK(B23),A23,B23) -> Processes
A24: 1.4.1 | B24: Presentation and explanation of the implementation plan: work steps, milestones, schedule | D24: 0.04 | F24: =$D24*E24*100 -> 0 | H24: =$D24*G24*100 -> 0 | J24: =$D24*I24*100 -> 0 | L24: =$D24*K24*100 -> 0 | N24: =$D24*M24*100 -> 0 | P24: =IF(ISBLANK(B24),A24,B24) -> Presentation and explanation of the implementation plan: work steps, milestones, schedule
A25: 1.4.2 | B25: Presentation and explanation of the integration of the partner contributions | D25: 0.02 | F25: =$D25*E25*100 -> 0 | H25: =$D25*G25*100 -> 0 | J25: =$D25*I25*100 -> 0 | L25: =$D25*K25*100 -> 0 | N25: =$D25*M25*100 -> 0 | P25: =IF(ISBLANK(B25),A25,B25) -> Presentation and explanation of the integration of the partner contributions
A26: Interim total 1.4 | D26: =SUM(D24:D25) -> 0.06 | F26: =SUM(F24:F25) -> 0 | H26: =SUM(H24:H25) -> 0 | J26: =SUM(J24:J25) -> 0 | L26: =SUM(L24:L25) -> 0 | N26: =SUM(N24:N25) -> 0 | P26: =IF(ISBLANK(B26),A26,B26) -> Interim total 1.4
A27: 1.5 | B27: Learning and innovation | P27: =IF(ISBLANK(B27),A27,B27) -> Learning and innovation
A28: 1.5.1 | B28: Contractor's contribution to knowledge management at the partner and at GIZ | D28: 0.01 | F28: =$D28*E28*100 -> 0 | H28: =$D28*G28*100 -> 0 | J28: =$D28*I28*100 -> 0 | L28: =$D28*K28*100 -> 0 | N28: =$D28*M28*100 -> 0 | P28: =IF(ISBLANK(B28),A28,B28) -> Contractor's contribution to knowledge management at the partner and at GIZ
A29: 1.5.2 | B29: Presentation and explanation of the measures undertaken by the contractor to promote scaling-up effects | D29: 0.02 | F29: =$D29*E29*100 -> 0 | H29: =$D29*G29*100 -> 0 | J29: =$D29*I29*100 -> 0 | L29: =$D29*K29*100 -> 0 | N29: =$D29*M29*100 -> 0 | P29: =IF(ISBLANK(B29),A29,B29) -> Presentation and explanation of the measures undertaken by the contractor to promote scaling-up effects
A30: Interim total 1.5 | D30: =SUM(D28:D29) -> 0.03 | F30: =SUM(F28:F29) -> 0 | H30: =SUM(H28:H29) -> 0 | J30: =SUM(J28:J29) -> 0 | L30: =SUM(L28:L29) -> 0 | N30: =SUM(N28:N29) -> 0 | P30: =IF(ISBLANK(B30),A30,B30) -> Interim total 1.5
A31: 1.6 | B31: Project management of the contractor | P31: =IF(ISBLANK(B31),A31,B31) -> Project management of the contractor
A32: 1.6.1 | B32: Approach and procedure for coordination with/in GIZ project | D32: 0.03 | F32: =$D32*E32*100 -> 0 | H32: =$D32*G32*100 -> 0 | J32: =$D32*I32*100 -> 0 | L32: =$D32*K32*100 -> 0 | N32: =$D32*M32*100 -> 0 | P32: =IF(ISBLANK(B32),A32,B32) -> Approach and procedure for coordination with/in GIZ project
A33: 1.6.2 | B33: Personnel assignment plan (who, when, what work steps) incl. explanation and specification of expert months | D33: 0.03 | F33: =$D33*E33*100 -> 0 | H33: =$D33*G33*100 -> 0 | J33: =$D33*I33*100 -> 0 | L33: =$D33*K33*100 -> 0 | N33: =$D33*M33*100 -> 0 | P33: =IF(ISBLANK(B33),A33,B33) -> Personnel assignment plan (who, when, what work steps) incl. explanation and specification of expert months
A34: 1.6.3 | B34: Contractor's backstopping strategy (incl. CVs of the technical and administrative backstopper) | D34: 0.01 | F34: =$D34*E34*100 -> 0 | H34: =$D34*G34*100 -> 0 | J34: =$D34*I34*100 -> 0 | L34: =$D34*K34*100 -> 0 | N34: =$D34*M34*100 -> 0 | P34: =IF(ISBLANK(B34),A34,B34) -> Contractor's backstopping strategy (incl. CVs of the technical and administrative backstopper)
A35: Interim total 1.6 | D35: =SUM(D32:D34) -> 0.07 | F35: =SUM(F32:F34) -> 0 | H35: =SUM(H32:H34) -> 0 | J35: =SUM(J32:J34) -> 0 | L35: =SUM(L32:L34) -> 0 | N35: =SUM(N32:N34) -> 0 | P35: =IF(ISBLANK(B35),A35,B35) -> Interim total 1.6
A36: 1.7 | B36: Sustainability requirements | D36: 0.04 | F36: =$D36*E36*100 -> 0 | H36: =$D36*G36*100 -> 0 | J36: =$D36*I36*100 -> 0 | L36: =$D36*K36*100 -> 0 | N36: =$D36*M36*100 -> 0
A37: 1.8 | B37: Further requirements | D37: 0 | F37: =$D37*E37*100 -> 0 | H37: =$D37*G37*100 -> 0 | J37: =$D37*I37*100 -> 0 | L37: =$D37*K37*100 -> 0 | N37: =$D37*M37*100 -> 0 | P37: =IF(ISBLANK(B37),A37,B37) -> Further requirements
A38: Total 1 | D38: =D14+D18+D22+D26+D30+D35+D36+D37 -> 0.4 | F38: =SUM(F14,F18,F22,F26,F30,F35,F36,F37) -> 0 | H38: =SUM(H14,H18,H22,H26,H30,H35,H36,H37) -> 0 | J38: =SUM(J14,J18,J22,J26,J30,J35,J36,J37) -> 0 | L38: =SUM(L14,L18,L22,L26,L30,L35,L36,L37) -> 0 | N38: =SUM(N14,N18,N22,N26,N30,N35,N36,N37) -> 0 | P38: =IF(ISBLANK(B38),A38,B38) -> Total 1
A39: 2 | B39: Assessment of proposed staff | P39: =IF(ISBLANK(B39),A39,B39) -> Assessment of proposed staff
A40: 2.1 | B40: Expert 1 (in accordance with ToR provisions/criteria) | P40: =IF(ISBLANK(B40),A40,B40) -> Expert 1 (in accordance with ToR provisions/criteria)
A41: 2.1.1 | B41: - Qualifications | D41: 0.04 | F41: =$D41*E41*100 -> 0 | H41: =$D41*G41*100 -> 0 | J41: =$D41*I41*100 -> 0 | L41: =$D41*K41*100 -> 0 | N41: =$D41*M41*100 -> 0 | P41: =IF(ISBLANK(B41),A41,B41) -> - Qualifications
A42: 2.1.2 | B42: - Language | D42: 0.02 | F42: =$D42*E42*100 -> 0 | H42: =$D42*G42*100 -> 0 | J42: =$D42*I42*100 -> 0 | L42: =$D42*K42*100 -> 0 | N42: =$D42*M42*100 -> 0 | P42: =IF(ISBLANK(B42),A42,B42) -> - Language
A43: 2.1.3 | B43: - General professional experience | D43: 0.04 | F43: =$D43*E43*100 -> 0 | H43: =$D43*G43*100 -> 0 | J43: =$D43*I43*100 -> 0 | L43: =$D43*K43*100 -> 0 | N43: =$D43*M43*100 -> 0 | P43: =IF(ISBLANK(B43),A43,B43) -> - General professional experience
A44: 2.1.4 | B44: - Specific professional experience | D44: 0.07 | F44: =$D44*E44*100 -> 0 | H44: =$D44*G44*100 -> 0 | J44: =$D44*I44*100 -> 0 | L44: =$D44*K44*100 -> 0 | N44: =$D44*M44*100 -> 0 | P44: =IF(ISBLANK(B44),A44,B44) -> - Specific professional experience
A45: 2.1.5 | B45: - Leadership/management experience | D45: 0.05 | F45: =$D45*E45*100 -> 0 | H45: =$D45*G45*100 -> 0 | J45: =$D45*I45*100 -> 0 | L45: =$D45*K45*100 -> 0 | N45: =$D45*M45*100 -> 0 | P45: =IF(ISBLANK(B45),A45,B45) -> - Leadership/management experience
A46: 2.1.6 | B46: - Regional experience | D46: 0.02 | F46: =$D46*E46*100 -> 0 | H46: =$D46*G46*100 -> 0 | J46: =$D46*I46*100 -> 0 | L46: =$D46*K46*100 -> 0 | N46: =$D46*M46*100 -> 0 | P46: =IF(ISBLANK(B46),A46,B46) -> - Regional experience
A47: 2.1.7 | B47: - Development cooperation experience | D47: 0.01 | F47: =$D47*E47*100 -> 0 | H47: =$D47*G47*100 -> 0 | J47: =$D47*I47*100 -> 0 | L47: =$D47*K47*100 -> 0 | N47: =$D47*M47*100 -> 0 | P47: =IF(ISBLANK(B47),A47,B47) -> - Development cooperation experience
A48: 2.1.8 | B48: - Other | D48: 0 | F48: =$D48*E48*100 -> 0 | H48: =$D48*G48*100 -> 0 | J48: =$D48*I48*100 -> 0 | L48: =$D48*K48*100 -> 0 | N48: =$D48*M48*100 -> 0 | P48: =IF(ISBLANK(B48),A48,B48) -> - Other
A49: Interim total 2.1 | D49: =SUM(D41:D48) -> 0.25 | F49: =SUM(F41:F48) -> 0 | H49: =SUM(H41:H48) -> 0 | J49: =SUM(J41:J48) -> 0 | L49: =SUM(L41:L48) -> 0 | N49: =SUM(N41:N48) -> 0 | P49: =IF(ISBLANK(B49),A49,B49) -> Interim total 2.1
A50: 2.2 | B50: Expert 2 (in accordance with ToR provisions/criteria) | P50: =IF(ISBLANK(B50),A50,B50) -> Expert 2 (in accordance with ToR provisions/criteria)
A51: 2.2.1 | B51: - Qualifications | D51: 0.04 | F51: =$D51*E51*100 -> 0 | H51: =$D51*G51*100 -> 0 | J51: =$D51*I51*100 -> 0 | L51: =$D51*K51*100 -> 0 | N51: =$D51*M51*100 -> 0 | P51: =IF(ISBLANK(B51),A51,B51) -> - Qualifications
A52: 2.2.2 | B52: - Language | D52: 0.02 | F52: =$D52*E52*100 -> 0 | H52: =$D52*G52*100 -> 0 | J52: =$D52*I52*100 -> 0 | L52: =$D52*K52*100 -> 0 | N52: =$D52*M52*100 -> 0 | P52: =IF(ISBLANK(B52),A52,B52) -> - Language
A53: 2.2.3 | B53: - General professional experience | D53: 0.04 | F53: =$D53*E53*100 -> 0 | H53: =$D53*G53*100 -> 0 | J53: =$D53*I53*100 -> 0 | L53: =$D53*K53*100 -> 0 | N53: =$D53*M53*100 -> 0 | P53: =IF(ISBLANK(B53),A53,B53) -> - General professional experience
A54: 2.2.4 | B54: - Specific professional experience | D54: 0.07 | F54: =$D54*E54*100 -> 0 | H54: =$D54*G54*100 -> 0 | J54: =$D54*I54*100 -> 0 | L54: =$D54*K54*100 -> 0 | N54: =$D54*M54*100 -> 0 | P54: =IF(ISBLANK(B54),A54,B54) -> - Specific professional experience
A55: 2.2.5 | B55: - Leadership/management experience | D55: 0.01 | F55: =$D55*E55*100 -> 0 | H55: =$D55*G55*100 -> 0 | J55: =$D55*I55*100 -> 0 | L55: =$D55*K55*100 -> 0 | N55: =$D55*M55*100 -> 0 | P55: =IF(ISBLANK(B55),A55,B55) -> - Leadership/management experience
A56: 2.2.6 | B56: - Regional experience | D56: 0.02 | F56: =$D56*E56*100 -> 0 | H56: =$D56*G56*100 -> 0 | J56: =$D56*I56*100 -> 0 | L56: =$D56*K56*100 -> 0 | N56: =$D56*M56*100 -> 0 | P56: =IF(ISBLANK(B56),A56,B56) -> - Regional experience
A57: 2.2.7 | B57: - Development cooperation experience | D57: 0 | F57: =$D57*E57*100 -> 0 | H57: =$D57*G57*100 -> 0 | J57: =$D57*I57*100 -> 0 | L57: =$D57*K57*100 -> 0 | N57: =$D57*M57*100 -> 0 | P57: =IF(ISBLANK(B57),A57,B57) -> - Development cooperation experience
A58: 2.2.8 | B58: - Other | D58: 0 | F58: =$D58*E58*100 -> 0 | H58: =$D58*G58*100 -> 0 | J58: =$D58*I58*100 -> 0 | L58: =$D58*K58*100 -> 0 | N58: =$D58*M58*100 -> 0 | P58: =IF(ISBLANK(B58),A58,B58) -> - Other
A59: Interim total 2.2 | D59: =SUM(D51:D58) -> 0.2 | F59: =SUM(F51:F58) -> 0 | H59: =SUM(H51:H58) -> 0 | J59: =SUM(J51:J58) -> 0 | L59: =SUM(L51:L58) -> 0 | N59: =SUM(N51:N58) -> 0 | P59: =IF(ISBLANK(B59),A59,B59) -> Interim total 2.2
A60: 2.3 | B60: Expert 3 (in accordance with ToR provisions/criteria) | P60: =IF(ISBLANK(B60),A60,B60) -> Expert 3 (in accordance with ToR provisions/criteria)
A61: 2.3.1 | B61: - Qualifications | D61: 0.04 | F61: =$D61*E61*100 -> 0 | H61: =$D61*G61*100 -> 0 | J61: =$D61*I61*100 -> 0 | L61: =$D61*K61*100 -> 0 | N61: =$D61*M61*100 -> 0 | P61: =IF(ISBLANK(B61),A61,B61) -> - Qualifications
A62: 2.3.2 | B62: - Language | D62: 0.02 | F62: =$D62*E62*100 -> 0 | H62: =$D62*G62*100 -> 0 | J62: =$D62*I62*100 -> 0 | L62: =$D62*K62*100 -> 0 | N62: =$D62*M62*100 -> 0 | P62: =IF(ISBLANK(B62),A62,B62) -> - Language
A63: 2.3.3 | B63: - General professional experience | D63: 0.04 | F63: =$D63*E63*100 -> 0 | H63: =$D63*G63*100 -> 0 | J63: =$D63*I63*100 -> 0 | L63: =$D63*K63*100 -> 0 | N63: =$D63*M63*100 -> 0 | P63: =IF(ISBLANK(B63),A63,B63) -> - General professional experience
A64: 2.3.4 | B64: - Specific professional experience | D64: 0.05 | F64: =$D64*E64*100 -> 0 | H64: =$D64*G64*100 -> 0 | J64: =$D64*I64*100 -> 0 | L64: =$D64*K64*100 -> 0 | N64: =$D64*M64*100 -> 0 | P64: =IF(ISBLANK(B64),A64,B64) -> - Specific professional experience
A65: 2.3.5 | B65: - Leadership/management experience | D65: 0 | F65: =$D65*E65*100 -> 0 | H65: =$D65*G65*100 -> 0 | J65: =$D65*I65*100 -> 0 | L65: =$D65*K65*100 -> 0 | N65: =$D65*M65*100 -> 0 | P65: =IF(ISBLANK(B65),A65,B65) -> - Leadership/management experience
A66: 2.3.6 | B66: - Regional experience | D66: 0 | F66: =$D66*E66*100 -> 0 | H66: =$D66*G66*100 -> 0 | J66: =$D66*I66*100 -> 0 | L66: =$D66*K66*100 -> 0 | N66: =$D66*M66*100 -> 0 | P66: =IF(ISBLANK(B66),A66,B66) -> - Regional experience
A67: 2.3.7 | B67: - Development cooperation experience | D67: 0 | F67: =$D67*E67*100 -> 0 | H67: =$D67*G67*100 -> 0 | J67: =$D67*I67*100 -> 0 | L67: =$D67*K67*100 -> 0 | N67: =$D67*M67*100 -> 0 | P67: =IF(ISBLANK(B67),A67,B67) -> - Development cooperation experience
A68: 2.3.8 | B68: - Other | D68: 0 | F68: =$D68*E68*100 -> 0 | H68: =$D68*G68*100 -> 0 | J68: =$D68*I68*100 -> 0 | L68: =$D68*K68*100 -> 0 | N68: =$D68*M68*100 -> 0 | P68: =IF(ISBLANK(B68),A68,B68) -> - Other
A69: Interim total 2.3 | D69: =SUM(D61:D68) -> 0.15 | F69: =SUM(F61:F68) -> 0 | H69: =SUM(H61:H68) -> 0 | J69: =SUM(J61:J68) -> 0 | L69: =SUM(L61:L68) -> 0 | N69: =SUM(N61:N68) -> 0 | P69: =IF(ISBLANK(B69),A69,B69) -> Interim total 2.3
A70: 2.4 | B70: Expert 4 (in accordance with ToR provisions/criteria) | P70: =IF(ISBLANK(B70),A70,B70) -> Expert 4 (in accordance with ToR provisions/criteria)
A71: 2.4.1 | B71: - Qualifications | D71: 0 | F71: =$D71*E71*100 -> 0 | H71: =$D71*G71*100 -> 0 | J71: =$D71*I71*100 -> 0 | L71: =$D71*K71*100 -> 0 | N71: =$D71*M71*100 -> 0 | P71: =IF(ISBLANK(B71),A71,B71) -> - Qualifications
A72: 2.4.2 | B72: - Language | D72: 0 | F72: =$D72*E72*100 -> 0 | H72: =$D72*G72*100 -> 0 | J72: =$D72*I72*100 -> 0 | L72: =$D72*K72*100 -> 0 | N72: =$D72*M72*100 -> 0 | P72: =IF(ISBLANK(B72),A72,B72) -> - Language
A73: 2.4.3 | B73: - General professional experience | D73: 0 | F73: =$D73*E73*100 -> 0 | H73: =$D73*G73*100 -> 0 | J73: =$D73*I73*100 -> 0 | L73: =$D73*K73*100 -> 0 | N73: =$D73*M73*100 -> 0 | P73: =IF(ISBLANK(B73),A73,B73) -> - General professional experience
A74: 2.4.4 | B74: - Specific professional experience | D74: 0 | F74: =$D74*E74*100 -> 0 | H74: =$D74*G74*100 -> 0 | J74: =$D74*I74*100 -> 0 | L74: =$D74*K74*100 -> 0 | N74: =$D74*M74*100 -> 0 | P74: =IF(ISBLANK(B74),A74,B74) -> - Specific professional experience
A75: 2.4.5 | B75: - Leadership/management experience | D75: 0 | F75: =$D75*E75*100 -> 0 | H75: =$D75*G75*100 -> 0 | J75: =$D75*I75*100 -> 0 | L75: =$D75*K75*100 -> 0 | N75: =$D75*M75*100 -> 0 | P75: =IF(ISBLANK(B75),A75,B75) -> - Leadership/management experience
A76: 2.4.6 | B76: - Regional experience | D76: 0 | F76: =$D76*E76*100 -> 0 | H76: =$D76*G76*100 -> 0 | J76: =$D76*I76*100 -> 0 | L76: =$D76*K76*100 -> 0 | N76: =$D76*M76*100 -> 0 | P76: =IF(ISBLANK(B76),A76,B76) -> - Regional experience
A77: 2.4.7 | B77: - Development cooperation experience | D77: 0 | F77: =$D77*E77*100 -> 0 | H77: =$D77*G77*100 -> 0 | J77: =$D77*I77*100 -> 0 | L77: =$D77*K77*100 -> 0 | N77: =$D77*M77*100 -> 0 | P77: =IF(ISBLANK(B77),A77,B77) -> - Development cooperation experience
A78: 2.4.8 | B78: - Other | D78: 0 | F78: =$D78*E78*100 -> 0 | H78: =$D78*G78*100 -> 0 | J78: =$D78*I78*100 -> 0 | L78: =$D78*K78*100 -> 0 | N78: =$D78*M78*100 -> 0 | P78: =IF(ISBLANK(B78),A78,B78) -> - Other
A79: Interim total 2.4 | D79: =SUM(D71:D78) -> 0 | F79: =SUM(F71:F78) -> 0 | H79: =SUM(H71:H78) -> 0 | J79: =SUM(J71:J78) -> 0 | L79: =SUM(L71:L78) -> 0 | N79: =SUM(N71:N78) -> 0 | P79: =IF(ISBLANK(B79),A79,B79) -> Interim total 2.4
A80: 2.5 | B80: Expert 5 (in accordance with ToR provisions/criteria) | P80: =IF(ISBLANK(B80),A80,B80) -> Expert 5 (in accordance with ToR provisions/criteria)
A81: 2.5.1 | B81: - Qualifications | D81: 0 | F81: =$D81*E81*100 -> 0 | H81: =$D81*G81*100 -> 0 | J81: =$D81*I81*100 -> 0 | L81: =$D81*K81*100 -> 0 | N81: =$D81*M81*100 -> 0 | P81: =IF(ISBLANK(B81),A81,B81) -> - Qualifications
A82: 2.5.2 | B82: - Language | D82: 0 | F82: =$D82*E82*100 -> 0 | H82: =$D82*G82*100 -> 0 | J82: =$D82*I82*100 -> 0 | L82: =$D82*K82*100 -> 0 | N82: =$D82*M82*100 -> 0 | P82: =IF(ISBLANK(B82),A82,B82) -> - Language
A83: 2.5.3 | B83: - General professional experience | D83: 0 | F83: =$D83*E83*100 -> 0 | H83: =$D83*G83*100 -> 0 | J83: =$D83*I83*100 -> 0 | L83: =$D83*K83*100 -> 0 | N83: =$D83*M83*100 -> 0 | P83: =IF(ISBLANK(B83),A83,B83) -> - General professional experience
A84: 2.5.4 | B84: - Specific professional experience | D84: 0 | F84: =$D84*E84*100 -> 0 | H84: =$D84*G84*100 -> 0 | J84: =$D84*I84*100 -> 0 | L84: =$D84*K84*100 -> 0 | N84: =$D84*M84*100 -> 0 | P84: =IF(ISBLANK(B84),A84,B84) -> - Specific professional experience
A85: 2.5.5 | B85: - Leadership/management experience | D85: 0 | F85: =$D85*E85*100 -> 0 | H85: =$D85*G85*100 -> 0 | J85: =$D85*I85*100 -> 0 | L85: =$D85*K85*100 -> 0 | N85: =$D85*M85*100 -> 0 | P85: =IF(ISBLANK(B85),A85,B85) -> - Leadership/management experience
A86: 2.5.6 | B86: - Regional experience | D86: 0 | F86: =$D86*E86*100 -> 0 | H86: =$D86*G86*100 -> 0 | J86: =$D86*I86*100 -> 0 | L86: =$D86*K86*100 -> 0 | N86: =$D86*M86*100 -> 0 | P86: =IF(ISBLANK(B86),A86,B86) -> - Regional experience
A87: 2.5.7 | B87: - Development cooperation experience | D87: 0 | F87: =$D87*E87*100 -> 0 | H87: =$D87*G87*100 -> 0 | J87: =$D87*I87*100 -> 0 | L87: =$D87*K87*100 -> 0 | N87: =$D87*M87*100 -> 0 | P87: =IF(ISBLANK(B87),A87,B87) -> - Development cooperation experience
A88: 2.5.8 | B88: - Other | D88: 0 | F88: =$D88*E88*100 -> 0 | H88: =$D88*G88*100 -> 0 | J88: =$D88*I88*100 -> 0 | L88: =$D88*K88*100 -> 0 | N88: =$D88*M88*100 -> 0 | P88: =IF(ISBLANK(B88),A88,B88) -> - Other
A89: Interim total 2.5 | D89: =SUM(D81:D88) -> 0 | F89: =SUM(F81:F88) -> 0 | H89: =SUM(H81:H88) -> 0 | J89: =SUM(J81:J88) -> 0 | L89: =SUM(L81:L88) -> 0 | N89: =SUM(N81:N88) -> 0 | P89: =IF(ISBLANK(B89),A89,B89) -> Interim total 2.5
A90: 2.6 | B90: Expert 6 (in accordance with ToR provisions/criteria) | P90: =IF(ISBLANK(B90),A90,B90) -> Expert 6 (in accordance with ToR provisions/criteria)
A91: 2.6.1 | B91: - Qualifications | D91: 0 | F91: =$D91*E91*100 -> 0 | H91: =$D91*G91*100 -> 0 | J91: =$D91*I91*100 -> 0 | L91: =$D91*K91*100 -> 0 | N91: =$D91*M91*100 -> 0 | P91: =IF(ISBLANK(B91),A91,B91) -> - Qualifications
A92: 2.6.2 | B92: - Language | D92: 0 | F92: =$D92*E92*100 -> 0 | H92: =$D92*G92*100 -> 0 | J92: =$D92*I92*100 -> 0 | L92: =$D92*K92*100 -> 0 | N92: =$D92*M92*100 -> 0 | P92: =IF(ISBLANK(B92),A92,B92) -> - Language
A93: 2.6.3 | B93: - General professional experience | D93: 0 | F93: =$D93*E93*100 -> 0 | H93: =$D93*G93*100 -> 0 | J93: =$D93*I93*100 -> 0 | L93: =$D93*K93*100 -> 0 | N93: =$D93*M93*100 -> 0 | P93: =IF(ISBLANK(B93),A93,B93) -> - General professional experience
A94: 2.6.4 | B94: - Specific professional experience | D94: 0 | F94: =$D94*E94*100 -> 0 | H94: =$D94*G94*100 -> 0 | J94: =$D94*I94*100 -> 0 | L94: =$D94*K94*100 -> 0 | N94: =$D94*M94*100 -> 0 | P94: =IF(ISBLANK(B94),A94,B94) -> - Specific professional experience
A95: 2.6.5 | B95: - Leadership/management experience | D95: 0 | F95: =$D95*E95*100 -> 0 | H95: =$D95*G95*100 -> 0 | J95: =$D95*I95*100 -> 0 | L95: =$D95*K95*100 -> 0 | N95: =$D95*M95*100 -> 0 | P95: =IF(ISBLANK(B95),A95,B95) -> - Leadership/management experience
A96: 2.6.6 | B96: - Regional experience | D96: 0 | F96: =$D96*E96*100 -> 0 | H96: =$D96*G96*100 -> 0 | J96: =$D96*I96*100 -> 0 | L96: =$D96*K96*100 -> 0 | N96: =$D96*M96*100 -> 0 | P96: =IF(ISBLANK(B96),A96,B96) -> - Regional experience
A97: 2.6.7 | B97: - Development cooperation experience | D97: 0 | F97: =$D97*E97*100 -> 0 | H97: =$D97*G97*100 -> 0 | J97: =$D97*I97*100 -> 0 | L97: =$D97*K97*100 -> 0 | N97: =$D97*M97*100 -> 0 | P97: =IF(ISBLANK(B97),A97,B97) -> - Development cooperation experience
A98: 2.6.8 | B98: - Other | D98: 0 | F98: =$D98*E98*100 -> 0 | H98: =$D98*G98*100 -> 0 | J98: =$D98*I98*100 -> 0 | L98: =$D98*K98*100 -> 0 | N98: =$D98*M98*100 -> 0 | P98: =IF(ISBLANK(B98),A98,B98) -> - Other
A99: Interim total 2.6 | D99: =SUM(D91:D98) -> 0 | F99: =SUM(F91:F98) -> 0 | H99: =SUM(H91:H98) -> 0 | J99: =SUM(J91:J98) -> 0 | L99: =SUM(L91:L98) -> 0 | N99: =SUM(N91:N98) -> 0 | P99: =IF(ISBLANK(B99),A99,B99) -> Interim total 2.6
A100: 2.7 | B100: Expert 7 (in accordance with ToR provisions/criteria) | P100: =IF(ISBLANK(B100),A100,B100) -> Expert 7 (in accordance with ToR provisions/criteria)
...

Sheet Tabelle1
A1: Wertung
A2: ='Tenderers 1-5'!F147 -> 0
A3: ='Tenderers 1-5'!H147 -> 0
A4: ='Tenderers 1-5'!J147 -> 0
A5: ='Tenderers 1-5'!L147 -> 0
A6: ='Tenderers 1-5'!N147 -> 0
A7: ='Tenderers 6-10'!F147 -> 0
A8: ='Tenderers 6-10'!H147 -> 0
A9: ='Tenderers 6-10'!J147 -> 0
A10: ='Tenderers 6-10'!L147 -> 0
A11: ='Tenderers 6-10'!N147 -> 0
